BEGIN:VCALENDAR
VERSION:2.0
PRODID:-//Björketorps Gård - ECPv6.0.12//NONSGML v1.0//EN
CALSCALE:GREGORIAN
METHOD:PUBLISH
X-WR-CALNAME:Björketorps Gård
X-ORIGINAL-URL:https://bjorketorpsgard.se
X-WR-CALDESC:Events for Björketorps Gård
REFRESH-INTERVAL;VALUE=DURATION:PT1H
X-Robots-Tag:noindex
X-PUBLISHED-TTL:PT1H
BEGIN:VTIMEZONE
TZID:Europe/Stockholm
BEGIN:DAYLIGHT
TZOFFSETFROM:+0100
TZOFFSETTO:+0200
TZNAME:CEST
DTSTART:20260329T010000
END:DAYLIGHT
BEGIN:STANDARD
TZOFFSETFROM:+0200
TZOFFSETTO:+0100
TZNAME:CET
DTSTART:20261025T010000
END:STANDARD
END:VTIMEZONE
BEGIN:VEVENT
DTSTART;TZID=Europe/Stockholm:20260426T110000
DTEND;TZID=Europe/Stockholm:20260426T140000
DTSTAMP:20260424T142918
CREATED:20260312T215157Z
LAST-MODIFIED:20260312T220141Z
UID:10000100-1777201200-1777212000@bjorketorpsgard.se
SUMMARY:Kosläpp 2026!
DESCRIPTION:Datumet är satt för årets kosläpp! Som alltid en söndag med släpp kl 11. \n26/4 är ett datum att anteckna. \nMer info kommer men det vi vet just nu är… \nFredriksberg BK sköter parkering med den bravur dom alltid gör. Tänk på att komma i god tid\, det kommer bli kö och mycket folk så kör gärna lite tidigare. \nAbbes mejeri kommer finnas på plats. \nMikklagård säljer stenugnsbakat bröd. \nFogarolli fixar kaffe att njuta av i solen. \nGivetvis skopas det glass i stora lass och grillas både korv och hamburgare helt enligt tradition. \nHölasset fluffas upp och tar er på en tur genom hagarna. \nVarmt välkomna ut!
URL:https://bjorketorpsgard.se/event/koslapp-2026/
CATEGORIES:Aktuellt
END:VEVENT
END:VCALENDAR